BEGIN:VCALENDAR
VERSION:2.0
PRODID:Spatie calendar-links
BEGIN:VEVENT
UID:https://veranstaltungen.mansfeldsuedharz-tourismus.de/veranstaltungen/abba-show-abalance-in-der-rosenarena-sangerhausen/
SUMMARY:ABBA Show &#8211\; Abalance in der Rosenarena Sangerhausen
DTSTAMP:20260711T180000Z
DTSTART:20260711T180000Z
DTEND:20260711T203000Z
DESCRIPTION:Mehr Informationen: https://veranstaltungen.mansfeldsuedharz-tourismus.de/veranstaltungen/abba-show-abalance-in-der-rosenarena-sangerhausen/
LOCATION:Am Rosengarten 2A\, 06526 Sangerhausen 
END:VEVENT
END:VCALENDAR