BEGIN:VCALENDAR
VERSION:2.0
PRODID:Spatie calendar-links
BEGIN:VEVENT
UID:https://veranstaltungen.mansfeldsuedharz-tourismus.de/?post_type=mi-event-date&#038;p=26241
SUMMARY:Abendliche Führung im Schloss Stolberg (Harz)
DTSTAMP:20260501T180000Z
DTSTART:20260501T180000Z
DTEND:20260501T180000Z
DESCRIPTION:Mehr Informationen: https://veranstaltungen.mansfeldsuedharz-tourismus.de/veranstaltungen/abendliche-fuehrung-im-schloss-stolberg/
LOCATION:Schloßberg 1\, 06536 Südharz  OT OT Stolberg (Harz)
END:VEVENT
END:VCALENDAR