BEGIN:VCALENDAR
VERSION:2.0
PRODID:Spatie calendar-links
BEGIN:VEVENT
UID:https://veranstaltungen.mansfeldsuedharz-tourismus.de/?post_type=mi-event-date&#038;p=26195
SUMMARY:Amore mio
DTSTAMP:20260510T153000Z
DTSTART:20260510T153000Z
DTEND:20260510T153000Z
DESCRIPTION:Mehr Informationen: https://veranstaltungen.mansfeldsuedharz-tourismus.de/veranstaltungen/amore-mio/
LOCATION:Am Markt 2\, 06536 Südharz  OT OT Stolberg (Harz)
END:VEVENT
END:VCALENDAR