BEGIN:VCALENDAR
VERSION:2.0
PRODID:Spatie calendar-links
BEGIN:VEVENT
UID:https://veranstaltungen.mansfeldsuedharz-tourismus.de/veranstaltungen/autoren-talk-mit-john-mc-gurk/
SUMMARY:Autoren Talk mit John Mc Gurk
DTSTAMP:20260506T161500Z
DTSTART:20260506T161500Z
DTEND:20260506T183000Z
DESCRIPTION:Mehr Informationen: https://veranstaltungen.mansfeldsuedharz-tourismus.de/veranstaltungen/autoren-talk-mit-john-mc-gurk/
LOCATION:Ascherslebener Straße 25\, 06456 Sandersleben (Anhalt) 
END:VEVENT
END:VCALENDAR