BEGIN:VCALENDAR
VERSION:2.0
PRODID:Spatie calendar-links
BEGIN:VEVENT
UID:https://veranstaltungen.mansfeldsuedharz-tourismus.de/?post_type=mi-event-date&#038;p=26178
SUMMARY:Det war sein Milljöh
DTSTAMP:20260423T173000Z
DTSTART:20260423T173000Z
DTEND:20260423T173000Z
DESCRIPTION:Mehr Informationen: https://veranstaltungen.mansfeldsuedharz-tourismus.de/veranstaltungen/det-war-sein-milljoeh/
LOCATION:Am Markt 2\, 06536 Südharz  OT OT Stolberg (Harz)
END:VEVENT
END:VCALENDAR