BEGIN:VCALENDAR
VERSION:2.0
PRODID:Spatie calendar-links
BEGIN:VEVENT
UID:https://veranstaltungen.mansfeldsuedharz-tourismus.de/?post_type=mi-event-date&#038;p=26216
SUMMARY:Edgar Allan Poe – Geschichten aus der Gruft des Dichters
DTSTAMP:20260521T173000Z
DTSTART:20260521T173000Z
DTEND:20260521T173000Z
DESCRIPTION:Mehr Informationen: https://veranstaltungen.mansfeldsuedharz-tourismus.de/veranstaltungen/edgar-allan-poe-geschichten-aus-der-gruft-des-dichters/
LOCATION:Am Markt 2\, 06536 Südharz  OT OT Stolberg (Harz)
END:VEVENT
END:VCALENDAR