BEGIN:VCALENDAR
VERSION:2.0
PRODID:Spatie calendar-links
BEGIN:VEVENT
UID:https://veranstaltungen.mansfeldsuedharz-tourismus.de/?post_type=mi-event-date&#038;p=26189
SUMMARY:Hochverehrtes Publikum\, sag mal\, bist du wirklich so dumm?
DTSTAMP:20260508T173000Z
DTSTART:20260508T173000Z
DTEND:20260508T173000Z
DESCRIPTION:Mehr Informationen: https://veranstaltungen.mansfeldsuedharz-tourismus.de/veranstaltungen/hochverehrtes-publikum-sag-mal-bist-du-wirklich-so-dumm/
LOCATION:Am Markt 2\, 06536 Südharz  OT OT Stolberg (Harz)
END:VEVENT
END:VCALENDAR