BEGIN:VCALENDAR
VERSION:2.0
PRODID:Spatie calendar-links
BEGIN:VEVENT
UID:https://veranstaltungen.mansfeldsuedharz-tourismus.de/?post_type=mi-event-date&#038;p=26207
SUMMARY:Im Kessel: Buntes
DTSTAMP:20260503T153000Z
DTSTART:20260503T153000Z
DTEND:20260503T153000Z
DESCRIPTION:Mehr Informationen: https://veranstaltungen.mansfeldsuedharz-tourismus.de/veranstaltungen/im-kessel-buntes/
LOCATION:Am Markt 2\, 06536 Südharz  OT OT Stolberg (Harz)
END:VEVENT
END:VCALENDAR