BEGIN:VCALENDAR
VERSION:2.0
PRODID:Spatie calendar-links
BEGIN:VEVENT
UID:https://veranstaltungen.mansfeldsuedharz-tourismus.de/?post_type=mi-event-date&#038;p=26154
SUMMARY:Orgel.Punkt im Schloss Stolberg
DTSTAMP:20260807T150000Z
DTSTART:20260807T150000Z
DTEND:20260807T150000Z
DESCRIPTION:Mehr Informationen: https://veranstaltungen.mansfeldsuedharz-tourismus.de/veranstaltungen/orgel-punkt-im-schloss-stolberg/
LOCATION:Schloßberg 1\, 06536 Südharz  OT OT Stolberg (Harz)
END:VEVENT
END:VCALENDAR