BEGIN:VCALENDAR
VERSION:2.0
PRODID:Spatie calendar-links
BEGIN:VEVENT
UID:https://veranstaltungen.mansfeldsuedharz-tourismus.de/?post_type=mi-event-date&#038;p=26160
SUMMARY:Orgelkonzert zum Stolberger Weihnachtsmarkt
DTSTAMP:20261212T130000Z
DTSTART:20261212T130000Z
DTEND:20261212T130000Z
DESCRIPTION:Mehr Informationen: https://veranstaltungen.mansfeldsuedharz-tourismus.de/veranstaltungen/orgelkonzert-zum-stolberger-weihnachtsmarkt/
LOCATION:Schloßberg 1\, 06536 Südharz  OT OT Stolberg (Harz)
END:VEVENT
END:VCALENDAR