BEGIN:VCALENDAR
VERSION:2.0
PRODID:Spatie calendar-links
BEGIN:VEVENT
UID:https://veranstaltungen.mansfeldsuedharz-tourismus.de/?post_type=mi-event-date&#038;p=26158
SUMMARY:Orgelmatinee im Schloss Stolberg
DTSTAMP:20261108T100000Z
DTSTART:20261108T100000Z
DTEND:20261108T100000Z
DESCRIPTION:Mehr Informationen: https://veranstaltungen.mansfeldsuedharz-tourismus.de/veranstaltungen/orgelmatinee-im-schloss-stolberg/
LOCATION:Schloßberg 1\, 06536 Südharz  OT OT Stolberg (Harz)
END:VEVENT
END:VCALENDAR