BEGIN:VCALENDAR
VERSION:2.0
PRODID:Spatie calendar-links
BEGIN:VEVENT
UID:https://veranstaltungen.mansfeldsuedharz-tourismus.de/?post_type=mi-event-date&#038;p=26170
SUMMARY:Schauprägen im Museum ALTE MÜNZE in Stolberg (Harz)
DTSTAMP:20260501T090000Z
DTSTART:20260501T090000Z
DTEND:20260501T140000Z
DESCRIPTION:Mehr Informationen: https://veranstaltungen.mansfeldsuedharz-tourismus.de/veranstaltungen/schaupraegen-im-museum-alte-muenze-in-stolberg-harz-2/
LOCATION:Niedergasse 17/19\, 06536 Südharz  OT OT Stolberg (Harz)
END:VEVENT
END:VCALENDAR