BEGIN:VCALENDAR
VERSION:2.0
PRODID:Spatie calendar-links
BEGIN:VEVENT
UID:https://veranstaltungen.mansfeldsuedharz-tourismus.de/veranstaltungen/wanderausstellung-erst-825-jahre-bergbau-im-landkreis-mansfeld-suedharz-eine-archaeologische-spurensuche/
SUMMARY:Wanderausstellung &quot\;Erst 825 Jahre Bergbau im Landkreis Mansfeld-Südharz? &#8211\; Eine archäologische Spurensuche&quot\;
DTSTAMP:20260118T120000Z
DTSTART:20260118T120000Z
DTEND:20260503T150000Z
DESCRIPTION:Mehr Informationen: https://veranstaltungen.mansfeldsuedharz-tourismus.de/veranstaltungen/wanderausstellung-erst-825-jahre-bergbau-im-landkreis-mansfeld-suedharz-eine-archaeologische-spurensuche/
LOCATION:Bahnhofstraße 33\, 06526 Sangerhausen 
END:VEVENT
END:VCALENDAR