BEGIN:VCALENDAR
VERSION:2.0
PRODID:Spatie calendar-links
BEGIN:VEVENT
UID:https://veranstaltungen.mansfeldsuedharz-tourismus.de/veranstaltungen/wanderung-durch-hainrode-und-die-suedharzer-karstlandschaft/
SUMMARY:Wanderung durch Hainrode und die Südharzer Karstlandschaft
DTSTAMP:20260614T120000Z
DTSTART:20260614T120000Z
DTEND:20260614T150000Z
DESCRIPTION:Mehr Informationen: https://veranstaltungen.mansfeldsuedharz-tourismus.de/veranstaltungen/wanderung-durch-hainrode-und-die-suedharzer-karstlandschaft/
LOCATION:Hainröder Hauptstraße\, 06536 Südharz  OT OT Hainrode
END:VEVENT
END:VCALENDAR